Workbook

Sheet 確認書
J1: 確認日： | K1: 年 月 日
A4: 愛媛県知事 中村 時広 様
H6: 申請者名（法人名）
H7: 代表者名
H8: 医療機関名
A10: 病床数適正化緊急支援事業の実施に係る確認書
A12: 令和８年度（令和７年度からの繰越分）病床数適正化緊急支援事業の実施にあたり、下記のとおり給付対象となることを確認しました。
A14: 記
A16: １ 確認事項（該当状況をプルダウンから選択してください。）
B17: 確認事項 | L17: 該当状況
B18: 給付対象外 | C18: ① | D18: 次のいずれかに該当する病床を削減する。（給付対象外）
D19: ア | E19: 国の開設する施設であって、宮内庁、法務省若しくは防衛省が所管するもの
D20: イ | E20: (独)労働者健康安全機構の開設する施設であって、労働者災害補償保険の保険関係の成立している事業に使用される労働者で業務上の災害を被ったもののみの診療を行うもの
D21: ウ | E21: 特定の事務所等の従業員及びその家族の診療のみを行う施設
D22: エ | E22: 児童福祉法に規定する医療型障害児入所施設若しくは障害者の日常生活及び社会生活を総合的に支援するための法律に規定する療養介護を行う施設
D23: オ | E23: 独立行政法人自動車事故対策機構法に規定する施設の病床
D24: カ | E24: 放射線治療病室の病室
D25: キ | E25: ハンセン病療養所である病院の病床
D26: ク | E26: 心神喪失等の状態で重大な他害行為を行った者の医療及び観察等に関する法律の規定により厚生労働大臣の指定を受けた指定入院医療機関であって、同法第42条第１項第１号又は第61条第１項第１号の決定を受けた者の入院による医療に係る病床
B27: 承認条件付き | C27: ② | D27: 産科部門の病床（MFICU等を含む）及び小児科部門の病床（NICU・GCU等を含む）を削減する。
C28: ③ | D28: 申請日時点において入院医療の受入れを行っていない。（全床が休棟中または稼働中であるが実質的に受入を全く行っていない状況など）
C29: ④ | D29: 病床削減により入院医療の受入れを停止する（無床診療所への変更など）。
C30: ⑤ | D30: 令和９年３月31日時点において廃院する予定
C31: ⑥ | D31: 現に患者が入院している病床を削減する（病床稼働率を上回って病床を削減する場合など）
C32: ⑦ | D32: 病床数をあわせて100床以上削減する
A35: ２ 地域医療への影響について
B36: １の確認結果において、②～⑦のいずれかで「該当あり」と回答した場合は、当該病床の削減による地域医療提供体制への影響がないことを確認する必要があることから、次の内容を御回答ください。
B37: (１) ②（産科・小児科部門の削減）に該当する場合
C38: 削減する産科・小児科部門の病床数とそのうち休床中の病床数について御回答ください。
C39: 削減する病床数 | H39: 床
D40: うち休床中の病床数 | H40: 床
C41: 削減に伴う対応方針等について、当てはまるもの全てに○を記入してください。
E42: 病床稼働率が低い（または休床中の）ため、削減後も現在と同等の医療の提供が可能
E43: 病床削減後の入院患者の受入れについて他の医療機関と調整済
E44: その他（下欄に詳細を記入してください）
B47: (２) ③～⑦（入院医療の中止、廃院、大規模削減等）に該当する場合
C48: 削減に伴う対応方針等について、当てはまるもの全てに○を記入してください。
E49: 在宅医療等の拡充により対応する
E50: 病床稼働率が低い（または休床中）ため、削減後も現在と同等の医療の提供が可能
E51: 入院患者の転院や病床削減後の入院患者の受入れについて他の医療機関と調整済
...

Sheet 集計用（編集不要）
A1: 申請者名 | B1: 代表者名 | C1: 医療機関名 | D1: 確認年月日 | E1: 確認事項 | S1: 対応方針
E2: ①給付対象外でないことの確認 | M2: ②～⑦給付に際し承認条件がないことの確認 | S2: 産科・小児科部門の削減に伴う対応方針 | Y2: 入院医療の中止、廃院、大規模削減等に伴う対応方針
E3: ア 宮内庁・法務省・防衛省所管病床 | F3: イ 労働者災害補償保険関係病床 | G3: ウ 特定事務所専用病床 | H3: エ 医療型障害児入所施設等の病床 | I3: オ 自動車事故対策機構法関係病床 | J3: カ 放射線治療病室の病室 | K3: キ ハンセン病療養所である病院の病床 | L3: ク 医療観察法の指定入院医療機関の病床 | M3: ② 産科・小児科部門病床 | N3: ③ 入院医療の受入れを行っていない | O3: ④ 病床削減により入院医療の受入れを停止する | P3: ⑤ 令和９年３月31日時点において廃院する予定 | Q3: ⑥ 現に患者が入院している病床を削減する | R3: ⑦ １００床以上の削減 | S3: 削減数 | T3: うち休床中 | U3: 削減後も現在と同等の医療の提供が可能 | V3: 入院患者の受入れについて他の医療機関と調整済 | W3: その他 | Y3: 在宅医療等の拡充により対応する | Z3: 削減後も現在と同等の医療の提供が可能 | AA3: 入院患者の受入れについて他の医療機関と調整済 | AB3: 現在入院中の患者の退院まで入院医療を継続 | AC3: その他
A4: =確認書!J6 -> 0 | B4: =確認書!J7 -> 0 | C4: =確認書!J8 -> 0 | D4: =確認書!K1 -> 年 月 日 | E4: =確認書!L19 -> 0 | F4: =確認書!L20 -> 0 | G4: =確認書!L21 -> 0 | H4: =確認書!L22 -> 0 | I4: =確認書!L23 -> 0 | J4: =確認書!L24 -> 0 | K4: =確認書!L25 -> 0 | L4: =確認書!L26 -> 0 | M4: =確認書!L27 -> 0 | N4: =確認書!L28 -> 0 | O4: =確認書!L29 -> 0 | P4: =確認書!L30 -> 0 | Q4: =確認書!L31 -> 0 | R4: =確認書!L32 -> 0 | S4: =確認書!G39 -> 0 | T4: =確認書!G40 -> 0 | U4: =確認書!C42 -> 0 | V4: =確認書!C43 -> 0 | W4: =確認書!C44 -> 0 | X4: =確認書!E45 -> 0 | Y4: =確認書!C49 -> 0 | Z4: =確認書!C50 -> 0 | AA4: =確認書!C51 -> 0 | AB4: =確認書!C52 -> 0 | AC4: =確認書!C53 -> 0 | AD4: =確認書!E54 -> 0
